BEGIN:VCALENDAR
VERSION:2.0
PRODID:-//empowercdc.org//NONSGML kigkonsult.se iCalcreator 2.30.10//
CALSCALE:GREGORIAN
METHOD:PUBLISH
UID:09b689bb-bae8-4143-907f-efbedae9a550
X-WR-CALDESC:
X-WR-RELCALID:918f4928e4e0f060dc62ee8381ad00f5
X-WR-TIMEZONE:America/Chicago
BEGIN:VTIMEZONE
TZID:America/Chicago
BEGIN:STANDARD
TZNAME:CST
DTSTART:20201101T020000
TZOFFSETFROM:-0500
TZOFFSETTO:-0600
RDATE:20211107T020000
RDATE:20221106T020000
END:STANDARD
BEGIN:DAYLIGHT
TZNAME:CDT
DTSTART:20210314T020000
TZOFFSETFROM:-0600
TZOFFSETTO:-0500
RDATE:20220313T020000
RDATE:20230312T020000
END:DAYLIGHT
END:VTIMEZONE
BEGIN:VEVENT
UID:cd6abc90-72e5-4f77-9036-8dc065168243
DTSTAMP:20260424T061714Z
DESCRIPTION:
DTSTART;TZID=America/Chicago:20211008T120000
DTEND;TZID=America/Chicago:20211008T130000
LOCATION:
SUMMARY:EBH Bingo
END:VEVENT
END:VCALENDAR
