BEGIN:VCALENDAR
VERSION:2.0
PRODID:-//empowercdc.org//NONSGML kigkonsult.se iCalcreator 2.30.10//
CALSCALE:GREGORIAN
METHOD:PUBLISH
UID:5933c366-8b68-4664-9885-47028b247273
X-WR-CALDESC:
X-WR-RELCALID:a7b8d7a26ac1be787fe721d9c700a5b9
X-WR-TIMEZONE:America/Chicago
BEGIN:VTIMEZONE
TZID:America/Chicago
BEGIN:STANDARD
TZNAME:CST
DTSTART:20201101T020000
TZOFFSETFROM:-0500
TZOFFSETTO:-0600
RDATE:20211107T020000
RDATE:20221106T020000
END:STANDARD
BEGIN:DAYLIGHT
TZNAME:CDT
DTSTART:20210314T020000
TZOFFSETFROM:-0600
TZOFFSETTO:-0500
RDATE:20220313T020000
RDATE:20230312T020000
END:DAYLIGHT
END:VTIMEZONE
BEGIN:VEVENT
UID:47fc4297-98a0-4040-b77d-b1e3f2d15c46
DTSTAMP:20260424T061850Z
DESCRIPTION:
DTSTART;TZID=America/Chicago:20211008T150000
DTEND;TZID=America/Chicago:20211008T160000
LOCATION:
SUMMARY:Birthday Social
END:VEVENT
END:VCALENDAR
