BEGIN:VCALENDAR
VERSION:2.0
PRODID:-//empowercdc.org//NONSGML kigkonsult.se iCalcreator 2.30.10//
CALSCALE:GREGORIAN
METHOD:PUBLISH
UID:d3a36a20-333a-4675-bc9b-6e545517061f
X-WR-CALDESC:
X-WR-RELCALID:a56afd56f9017740b6c284a138970abc
X-WR-TIMEZONE:America/Chicago
BEGIN:VTIMEZONE
TZID:America/Chicago
BEGIN:STANDARD
TZNAME:CST
DTSTART:20201101T020000
TZOFFSETFROM:-0500
TZOFFSETTO:-0600
RDATE:20211107T020000
RDATE:20221106T020000
END:STANDARD
BEGIN:DAYLIGHT
TZNAME:CDT
DTSTART:20210314T020000
TZOFFSETFROM:-0600
TZOFFSETTO:-0500
RDATE:20220313T020000
RDATE:20230312T020000
END:DAYLIGHT
END:VTIMEZONE
BEGIN:VEVENT
UID:bcdf0cfe-2797-47e7-bab0-378641bac2b6
DTSTAMP:20260424T061939Z
DESCRIPTION:
DTSTART;TZID=America/Chicago:20211007T140000
DTEND;TZID=America/Chicago:20211007T150000
LOCATION:Heritage Multi Family
SUMMARY:Food Pantry
END:VEVENT
END:VCALENDAR
