BEGIN:VCALENDAR
VERSION:2.0
PRODID:-//empowercdc.org//NONSGML kigkonsult.se iCalcreator 2.30.10//
CALSCALE:GREGORIAN
METHOD:PUBLISH
UID:679a3642-7c17-4d3b-a0b4-f5404e55fbac
X-WR-CALDESC:
X-WR-RELCALID:4e799d82cdc2c8f5a085d26f7827d7ee
X-WR-TIMEZONE:America/Chicago
BEGIN:VTIMEZONE
TZID:America/Chicago
BEGIN:STANDARD
TZNAME:CST
DTSTART:20201101T020000
TZOFFSETFROM:-0500
TZOFFSETTO:-0600
RDATE:20211107T020000
RDATE:20221106T020000
END:STANDARD
BEGIN:DAYLIGHT
TZNAME:CDT
DTSTART:20210314T020000
TZOFFSETFROM:-0600
TZOFFSETTO:-0500
RDATE:20220313T020000
RDATE:20230312T020000
END:DAYLIGHT
END:VTIMEZONE
BEGIN:VEVENT
UID:c05ad5db-c276-47eb-8196-50c59281baaa
DTSTAMP:20260424T061533Z
DESCRIPTION:
DTSTART;TZID=America/Chicago:20211007T140000
DTEND;TZID=America/Chicago:20211007T150000
LOCATION:Heritage Seniors
SUMMARY:Door Decorating
END:VEVENT
END:VCALENDAR
