BEGIN:VCALENDAR
VERSION:2.0
PRODID:-//empowercdc.org//NONSGML kigkonsult.se iCalcreator 2.30.10//
CALSCALE:GREGORIAN
METHOD:PUBLISH
UID:b8702fbd-f535-4f37-96e6-0d21e02753ad
X-WR-CALDESC:
X-WR-RELCALID:e37bf2823f3f6162a33d337f20e756b7
X-WR-TIMEZONE:America/Chicago
BEGIN:VTIMEZONE
TZID:America/Chicago
BEGIN:STANDARD
TZNAME:CST
DTSTART:20201101T020000
TZOFFSETFROM:-0500
TZOFFSETTO:-0600
RDATE:20211107T020000
RDATE:20221106T020000
END:STANDARD
BEGIN:DAYLIGHT
TZNAME:CDT
DTSTART:20210314T020000
TZOFFSETFROM:-0600
TZOFFSETTO:-0500
RDATE:20220313T020000
RDATE:20230312T020000
END:DAYLIGHT
END:VTIMEZONE
BEGIN:VEVENT
UID:f4e2301a-6f98-4e26-8078-9452c8be8147
DTSTAMP:20260424T061848Z
DESCRIPTION:
DTSTART;TZID=America/Chicago:20211007T150000
DTEND;TZID=America/Chicago:20211007T160000
LOCATION:Heritage Seniors
SUMMARY:Birthday Bingo
END:VEVENT
END:VCALENDAR
