BEGIN:VCALENDAR
VERSION:2.0
PRODID:-//empowercdc.org//NONSGML kigkonsult.se iCalcreator 2.30.10//
CALSCALE:GREGORIAN
METHOD:PUBLISH
UID:8632b4c8-57d7-4a1c-a673-5b2dff5788cf
X-WR-CALDESC:
X-WR-RELCALID:aa2b0e4da51b7faec0013f874341f3a8
X-WR-TIMEZONE:America/Chicago
BEGIN:VTIMEZONE
TZID:America/Chicago
BEGIN:STANDARD
TZNAME:CST
DTSTART:20201101T020000
TZOFFSETFROM:-0500
TZOFFSETTO:-0600
RDATE:20211107T020000
RDATE:20221106T020000
END:STANDARD
BEGIN:DAYLIGHT
TZNAME:CDT
DTSTART:20210314T020000
TZOFFSETFROM:-0600
TZOFFSETTO:-0500
RDATE:20220313T020000
RDATE:20230312T020000
END:DAYLIGHT
END:VTIMEZONE
BEGIN:VEVENT
UID:8c72cd83-fb10-45bd-b132-ee5523d559c2
DTSTAMP:20260424T062113Z
DESCRIPTION:
DTSTART;TZID=America/Chicago:20211005T140000
DTEND;TZID=America/Chicago:20211005T150000
LOCATION:
SUMMARY:Simply Fit
END:VEVENT
END:VCALENDAR
