BEGIN:VCALENDAR
VERSION:2.0
PRODID:-//empowercdc.org//NONSGML kigkonsult.se iCalcreator 2.30.10//
CALSCALE:GREGORIAN
METHOD:PUBLISH
UID:6a3cd0f2-66e4-4a1c-af04-cecffb0fda69
X-WR-CALDESC:
X-WR-RELCALID:791c0a44a91455c2845855c68c3a5016
X-WR-TIMEZONE:America/Chicago
BEGIN:VTIMEZONE
TZID:America/Chicago
BEGIN:STANDARD
TZNAME:CST
DTSTART:20201101T020000
TZOFFSETFROM:-0500
TZOFFSETTO:-0600
RDATE:20211107T020000
RDATE:20221106T020000
END:STANDARD
BEGIN:DAYLIGHT
TZNAME:CDT
DTSTART:20210314T020000
TZOFFSETFROM:-0600
TZOFFSETTO:-0500
RDATE:20220313T020000
RDATE:20230312T020000
END:DAYLIGHT
END:VTIMEZONE
BEGIN:VEVENT
UID:2c856471-c1e4-49cb-9b6f-d15889a087f6
DTSTAMP:20260424T062044Z
DESCRIPTION:
DTSTART;TZID=America/Chicago:20211005T090000
DTEND;TZID=America/Chicago:20211005T100000
LOCATION:
SUMMARY:Mindful Moment Exercise
END:VEVENT
END:VCALENDAR
