BEGIN:VCALENDAR
VERSION:2.0
PRODID:-//empowercdc.org//NONSGML kigkonsult.se iCalcreator 2.30.10//
CALSCALE:GREGORIAN
METHOD:PUBLISH
UID:86ef951d-7a39-4b6e-89cf-9705bc684b4f
X-WR-CALDESC:
X-WR-RELCALID:1361540a1785228113ec56bf677d50d1
X-WR-TIMEZONE:America/Chicago
BEGIN:VTIMEZONE
TZID:America/Chicago
BEGIN:STANDARD
TZNAME:CST
DTSTART:20201101T020000
TZOFFSETFROM:-0500
TZOFFSETTO:-0600
RDATE:20211107T020000
RDATE:20221106T020000
END:STANDARD
BEGIN:DAYLIGHT
TZNAME:CDT
DTSTART:20210314T020000
TZOFFSETFROM:-0600
TZOFFSETTO:-0500
RDATE:20220313T020000
RDATE:20230312T020000
END:DAYLIGHT
END:VTIMEZONE
BEGIN:VEVENT
UID:852d6eab-f362-41c2-a6e5-13473750e948
DTSTAMP:20260424T061924Z
DESCRIPTION:
DTSTART;TZID=America/Chicago:20211004T150000
DTEND;TZID=America/Chicago:20211004T160000
LOCATION:
SUMMARY:Birthday Social
END:VEVENT
END:VCALENDAR
