BEGIN:VCALENDAR
VERSION:2.0
PRODID:-//empowercdc.org//NONSGML kigkonsult.se iCalcreator 2.30.10//
CALSCALE:GREGORIAN
METHOD:PUBLISH
UID:2855fd7a-3ac8-48a8-a5dd-2ac8e6cbdfdd
X-WR-CALDESC:
X-WR-RELCALID:0021e856437199fe7cfb16d0217adcb3
X-WR-TIMEZONE:America/Chicago
BEGIN:VTIMEZONE
TZID:America/Chicago
BEGIN:STANDARD
TZNAME:CST
DTSTART:20201101T020000
TZOFFSETFROM:-0500
TZOFFSETTO:-0600
RDATE:20211107T020000
RDATE:20221106T020000
END:STANDARD
BEGIN:DAYLIGHT
TZNAME:CDT
DTSTART:20210314T020000
TZOFFSETFROM:-0600
TZOFFSETTO:-0500
RDATE:20220313T020000
RDATE:20230312T020000
END:DAYLIGHT
END:VTIMEZONE
BEGIN:VEVENT
UID:1d7b887b-2dee-4dc9-84a3-bf261e7c3488
DTSTAMP:20260424T062227Z
DESCRIPTION:
DTSTART;TZID=America/Chicago:20211004T160000
DTEND;TZID=America/Chicago:20211004T170000
LOCATION:
SUMMARY:Pink Out Walk
END:VEVENT
END:VCALENDAR
