BEGIN:VCALENDAR
VERSION:2.0
PRODID:-//empowercdc.org//NONSGML kigkonsult.se iCalcreator 2.30.10//
CALSCALE:GREGORIAN
METHOD:PUBLISH
UID:60950f26-454a-4d28-a655-51243cc047a9
X-WR-CALDESC:
X-WR-RELCALID:90795c44cc532e7f6e3ca91e7bb58f5a
X-WR-TIMEZONE:America/Chicago
BEGIN:VTIMEZONE
TZID:America/Chicago
BEGIN:STANDARD
TZNAME:CST
DTSTART:20201101T020000
TZOFFSETFROM:-0500
TZOFFSETTO:-0600
RDATE:20211107T020000
RDATE:20221106T020000
END:STANDARD
BEGIN:DAYLIGHT
TZNAME:CDT
DTSTART:20210314T020000
TZOFFSETFROM:-0600
TZOFFSETTO:-0500
RDATE:20220313T020000
RDATE:20230312T020000
END:DAYLIGHT
END:VTIMEZONE
BEGIN:VEVENT
UID:7a28a650-b67c-46ee-96d8-67d371a35938
DTSTAMP:20260424T080309Z
DESCRIPTION:
DTSTART;TZID=America/Chicago:20210930T130000
DTEND;TZID=America/Chicago:20210930T140000
LOCATION:Heritage Seniors
SUMMARY:Social: Movie Matinee
END:VEVENT
END:VCALENDAR
