BEGIN:VCALENDAR
VERSION:2.0
PRODID:-//empowercdc.org//NONSGML kigkonsult.se iCalcreator 2.30.10//
CALSCALE:GREGORIAN
METHOD:PUBLISH
UID:9d4c5bf9-15ed-46a7-ae37-f1f0a656d3a6
X-WR-CALDESC:
X-WR-RELCALID:be3646d5476731928c3bbcc3e9e974e8
X-WR-TIMEZONE:America/Chicago
BEGIN:VTIMEZONE
TZID:America/Chicago
BEGIN:STANDARD
TZNAME:CST
DTSTART:20201101T020000
TZOFFSETFROM:-0500
TZOFFSETTO:-0600
RDATE:20211107T020000
RDATE:20221106T020000
END:STANDARD
BEGIN:DAYLIGHT
TZNAME:CDT
DTSTART:20210314T020000
TZOFFSETFROM:-0600
TZOFFSETTO:-0500
RDATE:20220313T020000
RDATE:20230312T020000
END:DAYLIGHT
END:VTIMEZONE
BEGIN:VEVENT
UID:8eb9853d-635c-461d-8b1d-60ee4f884610
DTSTAMP:20260424T075559Z
DESCRIPTION:
DTSTART;TZID=America/Chicago:20210930T150000
DTEND;TZID=America/Chicago:20210930T160000
LOCATION:Heritage Seniors
SUMMARY:Social: Bingo
END:VEVENT
END:VCALENDAR
