BEGIN:VCALENDAR
VERSION:2.0
PRODID:-//empowercdc.org//NONSGML kigkonsult.se iCalcreator 2.30.10//
CALSCALE:GREGORIAN
METHOD:PUBLISH
UID:071e716f-c535-415a-ab85-95fea1fa717f
X-WR-CALDESC:
X-WR-RELCALID:921c3a2f95be1bd01e9f3dd3087c959b
X-WR-TIMEZONE:America/Chicago
BEGIN:VTIMEZONE
TZID:America/Chicago
BEGIN:STANDARD
TZNAME:CST
DTSTART:20201101T020000
TZOFFSETFROM:-0500
TZOFFSETTO:-0600
RDATE:20211107T020000
RDATE:20221106T020000
END:STANDARD
BEGIN:DAYLIGHT
TZNAME:CDT
DTSTART:20210314T020000
TZOFFSETFROM:-0600
TZOFFSETTO:-0500
RDATE:20220313T020000
RDATE:20230312T020000
END:DAYLIGHT
END:VTIMEZONE
BEGIN:VEVENT
UID:ad565062-0080-4d33-ba40-27c02c6f8bcf
DTSTAMP:20260424T073828Z
DESCRIPTION:
DTSTART;TZID=America/Chicago:20210930T163000
DTEND;TZID=America/Chicago:20210930T173000
LOCATION:Heritage Multi-Family
SUMMARY:Exercise: Beginner's Yoga
END:VEVENT
END:VCALENDAR
