BEGIN:VCALENDAR
VERSION:2.0
PRODID:-//empowercdc.org//NONSGML kigkonsult.se iCalcreator 2.30.10//
CALSCALE:GREGORIAN
METHOD:PUBLISH
UID:6c069f2b-fd41-40b2-b372-e206d692c566
X-WR-CALDESC:
X-WR-RELCALID:f13f11bd01755f01e49c04dcd60a89fe
X-WR-TIMEZONE:America/Chicago
BEGIN:VTIMEZONE
TZID:America/Chicago
BEGIN:STANDARD
TZNAME:CST
DTSTART:20201101T020000
TZOFFSETFROM:-0500
TZOFFSETTO:-0600
RDATE:20211107T020000
RDATE:20221106T020000
END:STANDARD
BEGIN:DAYLIGHT
TZNAME:CDT
DTSTART:20210314T020000
TZOFFSETFROM:-0600
TZOFFSETTO:-0500
RDATE:20220313T020000
RDATE:20230312T020000
END:DAYLIGHT
END:VTIMEZONE
BEGIN:VEVENT
UID:2b2c80aa-3ddb-41c8-abe6-631815de5b11
DTSTAMP:20260424T074658Z
DESCRIPTION:
DTSTART;TZID=America/Chicago:20210930T140000
DTEND;TZID=America/Chicago:20210930T150000
LOCATION:Heritage Seniors
SUMMARY:Arts & Crafts: Door Decorating
END:VEVENT
END:VCALENDAR
