BEGIN:VCALENDAR
VERSION:2.0
PRODID:-//empowercdc.org//NONSGML kigkonsult.se iCalcreator 2.30.10//
CALSCALE:GREGORIAN
METHOD:PUBLISH
UID:8c78e67d-92b0-4ecc-8fce-7480d304ad32
X-WR-CALDESC:
X-WR-RELCALID:ca67e45d037283e59f9718fa56613980
X-WR-TIMEZONE:America/Chicago
BEGIN:VTIMEZONE
TZID:America/Chicago
BEGIN:STANDARD
TZNAME:CST
DTSTART:20201101T020000
TZOFFSETFROM:-0500
TZOFFSETTO:-0600
RDATE:20211107T020000
RDATE:20221106T020000
END:STANDARD
BEGIN:DAYLIGHT
TZNAME:CDT
DTSTART:20210314T020000
TZOFFSETFROM:-0600
TZOFFSETTO:-0500
RDATE:20220313T020000
RDATE:20230312T020000
END:DAYLIGHT
END:VTIMEZONE
BEGIN:VEVENT
UID:d05bc0c7-b2f0-4f13-881c-c6e109a2d765
DTSTAMP:20260424T080620Z
DESCRIPTION:
DTSTART;TZID=America/Chicago:20210930T183000
DTEND;TZID=America/Chicago:20210930T193000
LOCATION:Heritage Multi-family
SUMMARY:VIrtual Faith and Finance Course
END:VEVENT
END:VCALENDAR
