BEGIN:VCALENDAR
VERSION:2.0
PRODID:-//empowercdc.org//NONSGML kigkonsult.se iCalcreator 2.30.10//
CALSCALE:GREGORIAN
METHOD:PUBLISH
UID:1204970b-1c19-41b9-91b0-0c7405173514
X-WR-CALDESC:
X-WR-RELCALID:591de0bd474e6fcd8556fccda12cfce4
X-WR-TIMEZONE:America/Chicago
BEGIN:VTIMEZONE
TZID:America/Chicago
BEGIN:STANDARD
TZNAME:CST
DTSTART:20201101T020000
TZOFFSETFROM:-0500
TZOFFSETTO:-0600
RDATE:20211107T020000
RDATE:20221106T020000
END:STANDARD
BEGIN:DAYLIGHT
TZNAME:CDT
DTSTART:20210314T020000
TZOFFSETFROM:-0600
TZOFFSETTO:-0500
RDATE:20220313T020000
RDATE:20230312T020000
END:DAYLIGHT
END:VTIMEZONE
BEGIN:VEVENT
UID:f2a6b23c-dd32-4618-975d-13c48c26cc24
DTSTAMP:20260424T075829Z
DESCRIPTION:
DTSTART;TZID=America/Chicago:20210929T103000
DTEND;TZID=America/Chicago:20210929T113000
LOCATION:
SUMMARY:Social Event: Cheddars
END:VEVENT
END:VCALENDAR
