BEGIN:VCALENDAR
VERSION:2.0
PRODID:-//empowercdc.org//NONSGML kigkonsult.se iCalcreator 2.30.10//
CALSCALE:GREGORIAN
METHOD:PUBLISH
UID:b22c2bf7-7292-4bec-9680-d7c65b71f511
X-WR-CALDESC:
X-WR-RELCALID:16b657841cad64271ab7ce22f1fd92fe
X-WR-TIMEZONE:America/Chicago
BEGIN:VTIMEZONE
TZID:America/Chicago
BEGIN:STANDARD
TZNAME:CST
DTSTART:20201101T020000
TZOFFSETFROM:-0500
TZOFFSETTO:-0600
RDATE:20211107T020000
RDATE:20221106T020000
END:STANDARD
BEGIN:DAYLIGHT
TZNAME:CDT
DTSTART:20210314T020000
TZOFFSETFROM:-0600
TZOFFSETTO:-0500
RDATE:20220313T020000
RDATE:20230312T020000
END:DAYLIGHT
END:VTIMEZONE
BEGIN:VEVENT
UID:6b9a9c2c-73c5-45ad-9489-d90d26ab28a0
DTSTAMP:20260424T075948Z
DESCRIPTION:
DTSTART;TZID=America/Chicago:20210929T150000
DTEND;TZID=America/Chicago:20210929T160000
LOCATION:
SUMMARY:Exercise: Virtual Beginner's Yoga
END:VEVENT
END:VCALENDAR
