BEGIN:VCALENDAR
VERSION:2.0
PRODID:-//empowercdc.org//NONSGML kigkonsult.se iCalcreator 2.30.10//
CALSCALE:GREGORIAN
METHOD:PUBLISH
UID:fb81b7a2-d650-4168-8cd0-7baf5412952a
X-WR-CALDESC:Test your Nutrition Skills/Knowledge!
X-WR-RELCALID:81540d89d1f9d937b730ab3c1659c556
X-WR-TIMEZONE:America/Chicago
BEGIN:VTIMEZONE
TZID:America/Chicago
BEGIN:STANDARD
TZNAME:CST
DTSTART:20201101T020000
TZOFFSETFROM:-0500
TZOFFSETTO:-0600
RDATE:20211107T020000
RDATE:20221106T020000
END:STANDARD
BEGIN:DAYLIGHT
TZNAME:CDT
DTSTART:20210314T020000
TZOFFSETFROM:-0600
TZOFFSETTO:-0500
RDATE:20220313T020000
RDATE:20230312T020000
END:DAYLIGHT
END:VTIMEZONE
BEGIN:VEVENT
UID:e6aa43a4-89d6-48e1-9ccb-66746f6f1df4
DTSTAMP:20260424T080252Z
DESCRIPTION:Test your Nutrition Skills/Knowledge!
DTSTART;TZID=America/Chicago:20210928T153000
DTEND;TZID=America/Chicago:20210928T163000
LOCATION:
SUMMARY:Health and Nutrition Quiz
END:VEVENT
END:VCALENDAR
