BEGIN:VCALENDAR
VERSION:2.0
PRODID:-//empowercdc.org//NONSGML kigkonsult.se iCalcreator 2.30.10//
CALSCALE:GREGORIAN
METHOD:PUBLISH
UID:7d7b4b45-30e6-48ea-8ba0-cba3dedf2c32
X-WR-CALDESC:Come out and make a bejeweled bracelet just the way you want t
 o you.  Design is free reign!
X-WR-RELCALID:dfbfc5830d77ef7744636b7d645be9af
X-WR-TIMEZONE:America/Chicago
BEGIN:VTIMEZONE
TZID:America/Chicago
BEGIN:STANDARD
TZNAME:CST
DTSTART:20201101T020000
TZOFFSETFROM:-0500
TZOFFSETTO:-0600
RDATE:20211107T020000
RDATE:20221106T020000
END:STANDARD
BEGIN:DAYLIGHT
TZNAME:CDT
DTSTART:20210314T020000
TZOFFSETFROM:-0600
TZOFFSETTO:-0500
RDATE:20220313T020000
RDATE:20230312T020000
END:DAYLIGHT
END:VTIMEZONE
BEGIN:VEVENT
UID:8b150021-6521-406b-ae8b-ab7fbb272032
DTSTAMP:20260424T075233Z
DESCRIPTION:Come out and make a bejeweled bracelet just the way you want to
  you.  Design is free reign!
DTSTART;TZID=America/Chicago:20210928T160000
DTEND;TZID=America/Chicago:20210928T170000
LOCATION:
SUMMARY:Arts and Crafts:  Bracelets
END:VEVENT
END:VCALENDAR
