BEGIN:VCALENDAR
VERSION:2.0
PRODID:-//empowercdc.org//NONSGML kigkonsult.se iCalcreator 2.30.10//
CALSCALE:GREGORIAN
METHOD:PUBLISH
UID:3d8a85df-7762-4130-b7f2-4045fb543340
X-WR-CALDESC:
X-WR-RELCALID:5dc2eadf43847d40742833aff166f4ee
X-WR-TIMEZONE:America/Chicago
BEGIN:VTIMEZONE
TZID:America/Chicago
BEGIN:STANDARD
TZNAME:CST
DTSTART:20201101T020000
TZOFFSETFROM:-0500
TZOFFSETTO:-0600
RDATE:20211107T020000
RDATE:20221106T020000
END:STANDARD
BEGIN:DAYLIGHT
TZNAME:CDT
DTSTART:20210314T020000
TZOFFSETFROM:-0600
TZOFFSETTO:-0500
RDATE:20220313T020000
RDATE:20230312T020000
END:DAYLIGHT
END:VTIMEZONE
BEGIN:VEVENT
UID:59da135b-9e53-4a49-a197-e5631276893f
DTSTAMP:20260424T075600Z
DESCRIPTION:
DTSTART;TZID=America/Chicago:20210927T093000
DTEND;TZID=America/Chicago:20210927T103000
LOCATION:
SUMMARY:Transportation: HEB & CVS
END:VEVENT
END:VCALENDAR
