BEGIN:VCALENDAR
VERSION:2.0
PRODID:-//empowercdc.org//NONSGML kigkonsult.se iCalcreator 2.30.10//
CALSCALE:GREGORIAN
METHOD:PUBLISH
UID:f73b109b-7186-47d2-afb4-1f890bd693b1
X-WR-CALDESC:Exercise:  SIMPLY FIT Chair exercises and chat about the impor
 tance of strength buildling.
X-WR-RELCALID:a6d4e7e3a7f7539cd076e115507807b3
X-WR-TIMEZONE:America/Chicago
BEGIN:VTIMEZONE
TZID:America/Chicago
BEGIN:STANDARD
TZNAME:CST
DTSTART:20201101T020000
TZOFFSETFROM:-0500
TZOFFSETTO:-0600
RDATE:20211107T020000
RDATE:20221106T020000
END:STANDARD
BEGIN:DAYLIGHT
TZNAME:CDT
DTSTART:20210314T020000
TZOFFSETFROM:-0600
TZOFFSETTO:-0500
RDATE:20220313T020000
RDATE:20230312T020000
END:DAYLIGHT
END:VTIMEZONE
BEGIN:VEVENT
UID:3418eb71-c593-4375-a4bd-5271624e39ed
DTSTAMP:20260424T080031Z
DESCRIPTION:Exercise:  SIMPLY FIT Chair exercises and chat about the import
 ance of strength buildling.
DTSTART;TZID=America/Chicago:20210927T140000
DTEND;TZID=America/Chicago:20210927T150000
LOCATION:
SUMMARY:Exercise:  Simply Fit
END:VEVENT
END:VCALENDAR
