BEGIN:VCALENDAR
VERSION:2.0
PRODID:-//empowercdc.org//NONSGML kigkonsult.se iCalcreator 2.30.10//
CALSCALE:GREGORIAN
METHOD:PUBLISH
UID:a0a3e40a-f833-46f2-a328-2ea3e7e4741a
X-WR-CALDESC:
X-WR-RELCALID:41b9b336f36d557d6065c1bece64e88d
X-WR-TIMEZONE:America/Chicago
BEGIN:VTIMEZONE
TZID:America/Chicago
BEGIN:STANDARD
TZNAME:CST
DTSTART:20201101T020000
TZOFFSETFROM:-0500
TZOFFSETTO:-0600
RDATE:20211107T020000
RDATE:20221106T020000
END:STANDARD
BEGIN:DAYLIGHT
TZNAME:CDT
DTSTART:20210314T020000
TZOFFSETFROM:-0600
TZOFFSETTO:-0500
RDATE:20220313T020000
RDATE:20230312T020000
END:DAYLIGHT
END:VTIMEZONE
BEGIN:VEVENT
UID:525041c0-cde6-4c30-ad34-1aa39c694495
DTSTAMP:20260424T075953Z
DESCRIPTION:
DTSTART;TZID=America/Chicago:20210924T110000
DTEND;TZID=America/Chicago:20210924T120000
LOCATION:
SUMMARY:Weekly Exercise: Beginner's Yoga
END:VEVENT
END:VCALENDAR
