BEGIN:VCALENDAR
VERSION:2.0
PRODID:-//empowercdc.org//NONSGML kigkonsult.se iCalcreator 2.30.10//
CALSCALE:GREGORIAN
METHOD:PUBLISH
UID:615ccddc-8662-4a8a-9d29-14fcf2edb6ba
X-WR-CALDESC:Simply Fit.. Virtual Videos of Beginners Workouts
X-WR-RELCALID:bf218c66a3bd2e8c97c65d878729c1d4
X-WR-TIMEZONE:America/Chicago
BEGIN:VTIMEZONE
TZID:America/Chicago
BEGIN:STANDARD
TZNAME:CST
DTSTART:20201101T020000
TZOFFSETFROM:-0500
TZOFFSETTO:-0600
RDATE:20211107T020000
RDATE:20221106T020000
END:STANDARD
BEGIN:DAYLIGHT
TZNAME:CDT
DTSTART:20210314T020000
TZOFFSETFROM:-0600
TZOFFSETTO:-0500
RDATE:20220313T020000
RDATE:20230312T020000
END:DAYLIGHT
END:VTIMEZONE
BEGIN:VEVENT
UID:1e3fd927-49b0-4589-9e84-4c3c3e613a73
DTSTAMP:20260424T075857Z
DESCRIPTION:Simply Fit.. Virtual Videos of Beginners Workouts
DTSTART;TZID=America/Chicago:20210924T110000
DTEND;TZID=America/Chicago:20210924T120000
LOCATION:
SUMMARY:Exercise: Virtual Simply Fit
END:VEVENT
END:VCALENDAR
