BEGIN:VCALENDAR
VERSION:2.0
PRODID:-//empowercdc.org//NONSGML kigkonsult.se iCalcreator 2.30.10//
CALSCALE:GREGORIAN
METHOD:PUBLISH
UID:abb893a8-9596-4912-9337-0d8953243301
X-WR-CALDESC:
X-WR-RELCALID:5156c783c8a67dc2e911ade09fc11216
X-WR-TIMEZONE:America/Chicago
BEGIN:VTIMEZONE
TZID:America/Chicago
BEGIN:STANDARD
TZNAME:CST
DTSTART:20201101T020000
TZOFFSETFROM:-0500
TZOFFSETTO:-0600
RDATE:20211107T020000
RDATE:20221106T020000
END:STANDARD
BEGIN:DAYLIGHT
TZNAME:CDT
DTSTART:20210314T020000
TZOFFSETFROM:-0600
TZOFFSETTO:-0500
RDATE:20220313T020000
RDATE:20230312T020000
END:DAYLIGHT
END:VTIMEZONE
BEGIN:VEVENT
UID:88fdd972-3fa6-4404-9f98-a447a40e974d
DTSTAMP:20260424T080640Z
DESCRIPTION:
DTSTART;TZID=America/Chicago:20210923T183000
DTEND;TZID=America/Chicago:20210923T193000
LOCATION:Heritage Multi-family
SUMMARY:VIrtual Faith and Finance Course
END:VEVENT
END:VCALENDAR
