BEGIN:VCALENDAR
VERSION:2.0
PRODID:-//empowercdc.org//NONSGML kigkonsult.se iCalcreator 2.30.10//
CALSCALE:GREGORIAN
METHOD:PUBLISH
UID:68de58da-160a-4bec-976d-1ef4334131ec
X-WR-CALDESC:
X-WR-RELCALID:da5e40951ec110c88bd3d7abc57f6133
X-WR-TIMEZONE:America/Chicago
BEGIN:VTIMEZONE
TZID:America/Chicago
BEGIN:STANDARD
TZNAME:CST
DTSTART:20201101T020000
TZOFFSETFROM:-0500
TZOFFSETTO:-0600
RDATE:20211107T020000
RDATE:20221106T020000
END:STANDARD
BEGIN:DAYLIGHT
TZNAME:CDT
DTSTART:20210314T020000
TZOFFSETFROM:-0600
TZOFFSETTO:-0500
RDATE:20220313T020000
RDATE:20230312T020000
END:DAYLIGHT
END:VTIMEZONE
BEGIN:VEVENT
UID:cf99f6aa-30b5-4b31-97b2-8947040a3f22
DTSTAMP:20260424T080153Z
DESCRIPTION:
DTSTART;TZID=America/Chicago:20210922T103000
DTEND;TZID=America/Chicago:20210922T113000
LOCATION:
SUMMARY:Social Event: Golden Corral
END:VEVENT
END:VCALENDAR
