BEGIN:VCALENDAR
VERSION:2.0
PRODID:-//empowercdc.org//NONSGML kigkonsult.se iCalcreator 2.30.10//
CALSCALE:GREGORIAN
METHOD:PUBLISH
UID:2a11a7e1-821a-4e94-b9ef-1108d3ae687e
X-WR-CALDESC:
X-WR-RELCALID:bd093796fc865ae8a089307dbffe3fc8
X-WR-TIMEZONE:America/Chicago
BEGIN:VTIMEZONE
TZID:America/Chicago
BEGIN:STANDARD
TZNAME:CST
DTSTART:20201101T020000
TZOFFSETFROM:-0500
TZOFFSETTO:-0600
RDATE:20211107T020000
RDATE:20221106T020000
END:STANDARD
BEGIN:DAYLIGHT
TZNAME:CDT
DTSTART:20210314T020000
TZOFFSETFROM:-0600
TZOFFSETTO:-0500
RDATE:20220313T020000
RDATE:20230312T020000
END:DAYLIGHT
END:VTIMEZONE
BEGIN:VEVENT
UID:c303976f-bab6-412b-948c-a339bca828f3
DTSTAMP:20260424T080025Z
DESCRIPTION:
DTSTART;TZID=America/Chicago:20210922T150000
DTEND;TZID=America/Chicago:20210922T160000
LOCATION:
SUMMARY:Exercise: Virtual Beginner's Yoga
END:VEVENT
END:VCALENDAR
