BEGIN:VCALENDAR
VERSION:2.0
PRODID:-//empowercdc.org//NONSGML kigkonsult.se iCalcreator 2.30.10//
CALSCALE:GREGORIAN
METHOD:PUBLISH
UID:50327469-8080-4911-b6f9-da1861680c1e
X-WR-CALDESC:Financial Planning:  Dollars and Sense.  Will open a store to 
 make purchases with fake dollars earned.
X-WR-RELCALID:bd6f638ea6f067d8ed2e7ebfaaf53d38
X-WR-TIMEZONE:America/Chicago
BEGIN:VTIMEZONE
TZID:America/Chicago
BEGIN:STANDARD
TZNAME:CST
DTSTART:20201101T020000
TZOFFSETFROM:-0500
TZOFFSETTO:-0600
RDATE:20211107T020000
RDATE:20221106T020000
END:STANDARD
BEGIN:DAYLIGHT
TZNAME:CDT
DTSTART:20210314T020000
TZOFFSETFROM:-0600
TZOFFSETTO:-0500
RDATE:20220313T020000
RDATE:20230312T020000
END:DAYLIGHT
END:VTIMEZONE
BEGIN:VEVENT
UID:6a0c540b-4d8c-426c-9907-4711326364b1
DTSTAMP:20260424T074227Z
DESCRIPTION:Financial Planning:  Dollars and Sense.  Will open a store to m
 ake purchases with fake dollars earned.
DTSTART;TZID=America/Chicago:20210921T153000
DTEND;TZID=America/Chicago:20210921T163000
LOCATION:
SUMMARY:Financial Planning:  Dollars and Sense
END:VEVENT
END:VCALENDAR
