BEGIN:VCALENDAR
VERSION:2.0
PRODID:-//empowercdc.org//NONSGML kigkonsult.se iCalcreator 2.30.10//
CALSCALE:GREGORIAN
METHOD:PUBLISH
UID:d23be270-5fe8-41bc-a4d9-7e380b5fd4c3
X-WR-CALDESC:
X-WR-RELCALID:8f1a9d153b3e5e2652b885d82066a742
X-WR-TIMEZONE:America/Chicago
BEGIN:VTIMEZONE
TZID:America/Chicago
BEGIN:STANDARD
TZNAME:CST
DTSTART:20201101T020000
TZOFFSETFROM:-0500
TZOFFSETTO:-0600
RDATE:20211107T020000
RDATE:20221106T020000
END:STANDARD
BEGIN:DAYLIGHT
TZNAME:CDT
DTSTART:20210314T020000
TZOFFSETFROM:-0600
TZOFFSETTO:-0500
RDATE:20220313T020000
RDATE:20230312T020000
END:DAYLIGHT
END:VTIMEZONE
BEGIN:VEVENT
UID:0c1cfe57-8c83-493e-8766-0c4d3e5fdd16
DTSTAMP:20260424T080220Z
DESCRIPTION:
DTSTART;TZID=America/Chicago:20210921T090000
DTEND;TZID=America/Chicago:20210921T100000
LOCATION:Heritage Seniors
SUMMARY:Resident Led Social Gathering
END:VEVENT
END:VCALENDAR
