BEGIN:VCALENDAR
VERSION:2.0
PRODID:-//empowercdc.org//NONSGML kigkonsult.se iCalcreator 2.30.10//
CALSCALE:GREGORIAN
METHOD:PUBLISH
UID:eb8be27e-8aa2-4cd7-9aa2-ee7807418902
X-WR-CALDESC:
X-WR-RELCALID:d0860ad8164b2861ec0b6abf381e9a29
X-WR-TIMEZONE:America/Chicago
BEGIN:VTIMEZONE
TZID:America/Chicago
BEGIN:STANDARD
TZNAME:CST
DTSTART:20201101T020000
TZOFFSETFROM:-0500
TZOFFSETTO:-0600
RDATE:20211107T020000
RDATE:20221106T020000
END:STANDARD
BEGIN:DAYLIGHT
TZNAME:CDT
DTSTART:20210314T020000
TZOFFSETFROM:-0600
TZOFFSETTO:-0500
RDATE:20220313T020000
RDATE:20230312T020000
END:DAYLIGHT
END:VTIMEZONE
BEGIN:VEVENT
UID:9c2d4547-6fa5-4b27-b57e-4e93359d8ba9
DTSTAMP:20260424T074846Z
DESCRIPTION:
DTSTART;TZID=America/Chicago:20210920T103000
DTEND;TZID=America/Chicago:20210920T113000
LOCATION:
SUMMARY:Transportation: Walmart
END:VEVENT
END:VCALENDAR
