BEGIN:VCALENDAR
VERSION:2.0
PRODID:-//empowercdc.org//NONSGML kigkonsult.se iCalcreator 2.30.10//
CALSCALE:GREGORIAN
METHOD:PUBLISH
UID:09bec86e-f655-4a62-8ec2-9b7d8f3f4648
X-WR-CALDESC:Come out and Meet more of your wonderful neighbors
X-WR-RELCALID:1c1631fb6707c820c525f7a3ed30bb14
X-WR-TIMEZONE:America/Chicago
BEGIN:VTIMEZONE
TZID:America/Chicago
BEGIN:STANDARD
TZNAME:CST
DTSTART:20201101T020000
TZOFFSETFROM:-0500
TZOFFSETTO:-0600
RDATE:20211107T020000
RDATE:20221106T020000
END:STANDARD
BEGIN:DAYLIGHT
TZNAME:CDT
DTSTART:20210314T020000
TZOFFSETFROM:-0600
TZOFFSETTO:-0500
RDATE:20220313T020000
RDATE:20230312T020000
END:DAYLIGHT
END:VTIMEZONE
BEGIN:VEVENT
UID:fc40cbd3-7df5-435d-bc72-17fe35441081
DTSTAMP:20260424T075954Z
DESCRIPTION:Come out and Meet more of your wonderful neighbors
DTSTART;TZID=America/Chicago:20210920T150000
DTEND;TZID=America/Chicago:20210920T160000
LOCATION:
SUMMARY:SOCIAL:  Meet and Greet
END:VEVENT
END:VCALENDAR
