BEGIN:VCALENDAR
VERSION:2.0
PRODID:-//empowercdc.org//NONSGML kigkonsult.se iCalcreator 2.30.10//
CALSCALE:GREGORIAN
METHOD:PUBLISH
UID:f88dc095-5b79-4689-89fe-8d43a3aa565b
X-WR-CALDESC:Come out and make a bejeweled bracelet just the way you want t
 o you.  Design is free reign!
X-WR-RELCALID:42360d7ebdada7978c2d21bc4f992b15
X-WR-TIMEZONE:America/Chicago
BEGIN:VTIMEZONE
TZID:America/Chicago
BEGIN:STANDARD
TZNAME:CST
DTSTART:20201101T020000
TZOFFSETFROM:-0500
TZOFFSETTO:-0600
RDATE:20211107T020000
RDATE:20221106T020000
END:STANDARD
BEGIN:DAYLIGHT
TZNAME:CDT
DTSTART:20210314T020000
TZOFFSETFROM:-0600
TZOFFSETTO:-0500
RDATE:20220313T020000
RDATE:20230312T020000
END:DAYLIGHT
END:VTIMEZONE
BEGIN:VEVENT
UID:e984e231-a06d-4c7d-bf7e-a6bd2c558468
DTSTAMP:20260424T075141Z
DESCRIPTION:Come out and make a bejeweled bracelet just the way you want to
  you.  Design is free reign!
DTSTART;TZID=America/Chicago:20210920T153000
DTEND;TZID=America/Chicago:20210920T163000
LOCATION:
SUMMARY:Arts and Crafts:  Bracelets
END:VEVENT
END:VCALENDAR
