BEGIN:VCALENDAR
VERSION:2.0
PRODID:-//empowercdc.org//NONSGML kigkonsult.se iCalcreator 2.30.10//
CALSCALE:GREGORIAN
METHOD:PUBLISH
UID:5d446ded-c7c1-4305-863e-a0e55f4116a4
X-WR-CALDESC:
X-WR-RELCALID:571c658ac7c2b6c6f34e30480b3a09f8
X-WR-TIMEZONE:America/Chicago
BEGIN:VTIMEZONE
TZID:America/Chicago
BEGIN:STANDARD
TZNAME:CST
DTSTART:20201101T020000
TZOFFSETFROM:-0500
TZOFFSETTO:-0600
RDATE:20211107T020000
RDATE:20221106T020000
END:STANDARD
BEGIN:DAYLIGHT
TZNAME:CDT
DTSTART:20210314T020000
TZOFFSETFROM:-0600
TZOFFSETTO:-0500
RDATE:20220313T020000
RDATE:20230312T020000
END:DAYLIGHT
END:VTIMEZONE
BEGIN:VEVENT
UID:2d2bd48a-0ad0-4fdf-be73-eaa4d7c82f2f
DTSTAMP:20260424T074140Z
DESCRIPTION:
DTSTART;TZID=America/Chicago:20210917T120000
DTEND;TZID=America/Chicago:20210917T130000
LOCATION:
SUMMARY:Social: Bingo
END:VEVENT
END:VCALENDAR
