BEGIN:VCALENDAR
VERSION:2.0
PRODID:-//empowercdc.org//NONSGML kigkonsult.se iCalcreator 2.30.10//
CALSCALE:GREGORIAN
METHOD:PUBLISH
UID:939e7e6f-fb54-4d43-baf4-ee779b3b5fbb
X-WR-CALDESC:Meet and Greet fellow neighbors!!!
X-WR-RELCALID:0f1612ca7324f86467e27d6dffd9f69d
X-WR-TIMEZONE:America/Chicago
BEGIN:VTIMEZONE
TZID:America/Chicago
BEGIN:STANDARD
TZNAME:CST
DTSTART:20201101T020000
TZOFFSETFROM:-0500
TZOFFSETTO:-0600
RDATE:20211107T020000
RDATE:20221106T020000
END:STANDARD
BEGIN:DAYLIGHT
TZNAME:CDT
DTSTART:20210314T020000
TZOFFSETFROM:-0600
TZOFFSETTO:-0500
RDATE:20220313T020000
RDATE:20230312T020000
END:DAYLIGHT
END:VTIMEZONE
BEGIN:VEVENT
UID:f53e791e-7e64-4452-a8f1-87e366c1d1bc
DTSTAMP:20260424T074111Z
DESCRIPTION:Meet and Greet fellow neighbors!!!
DTSTART;TZID=America/Chicago:20210917T150000
DTEND;TZID=America/Chicago:20210917T160000
LOCATION:
SUMMARY:Meet and Greet
END:VEVENT
END:VCALENDAR
