BEGIN:VCALENDAR
VERSION:2.0
PRODID:-//empowercdc.org//NONSGML kigkonsult.se iCalcreator 2.30.10//
CALSCALE:GREGORIAN
METHOD:PUBLISH
UID:be9481b6-a957-4031-bf89-9706f7763ed2
X-WR-CALDESC:Create your own decorative flower pens.
X-WR-RELCALID:24c083e48b55af16c9d2195817f497d9
X-WR-TIMEZONE:America/Chicago
BEGIN:VTIMEZONE
TZID:America/Chicago
BEGIN:STANDARD
TZNAME:CST
DTSTART:20201101T020000
TZOFFSETFROM:-0500
TZOFFSETTO:-0600
RDATE:20211107T020000
RDATE:20221106T020000
END:STANDARD
BEGIN:DAYLIGHT
TZNAME:CDT
DTSTART:20210314T020000
TZOFFSETFROM:-0600
TZOFFSETTO:-0500
RDATE:20220313T020000
RDATE:20230312T020000
END:DAYLIGHT
END:VTIMEZONE
BEGIN:VEVENT
UID:304f94be-ae73-42d8-a25a-78b6796160c2
DTSTAMP:20260424T080214Z
DESCRIPTION:Create your own decorative flower pens.
DTSTART;TZID=America/Chicago:20210917T163000
DTEND;TZID=America/Chicago:20210917T173000
LOCATION:
SUMMARY:Arts and Crafts:  Flower Pens
END:VEVENT
END:VCALENDAR
