BEGIN:VCALENDAR
VERSION:2.0
PRODID:-//empowercdc.org//NONSGML kigkonsult.se iCalcreator 2.30.10//
CALSCALE:GREGORIAN
METHOD:PUBLISH
UID:9e7b624a-ed00-4ed6-bcb7-7936e8d82787
X-WR-CALDESC:
X-WR-RELCALID:8394dd3b20af513a37911ce05080edc4
X-WR-TIMEZONE:America/Chicago
BEGIN:VTIMEZONE
TZID:America/Chicago
BEGIN:STANDARD
TZNAME:CST
DTSTART:20201101T020000
TZOFFSETFROM:-0500
TZOFFSETTO:-0600
RDATE:20211107T020000
RDATE:20221106T020000
END:STANDARD
BEGIN:DAYLIGHT
TZNAME:CDT
DTSTART:20210314T020000
TZOFFSETFROM:-0600
TZOFFSETTO:-0500
RDATE:20220313T020000
RDATE:20230312T020000
END:DAYLIGHT
END:VTIMEZONE
BEGIN:VEVENT
UID:b2bd5333-d9fe-4cef-915e-22b69350dee7
DTSTAMP:20260424T080253Z
DESCRIPTION:
DTSTART;TZID=America/Chicago:20210917T130000
DTEND;TZID=America/Chicago:20210917T140000
LOCATION:
SUMMARY:Arts & Crafts: Lets Get Crafty
END:VEVENT
END:VCALENDAR
