BEGIN:VCALENDAR
VERSION:2.0
PRODID:-//empowercdc.org//NONSGML kigkonsult.se iCalcreator 2.30.10//
CALSCALE:GREGORIAN
METHOD:PUBLISH
UID:b8b280a3-2356-4e8f-97e6-6bc9b4755749
X-WR-CALDESC:
X-WR-RELCALID:030c9bf9d1a1d73ac58a8ce937b1ad4f
X-WR-TIMEZONE:America/Chicago
BEGIN:VTIMEZONE
TZID:America/Chicago
BEGIN:STANDARD
TZNAME:CST
DTSTART:20201101T020000
TZOFFSETFROM:-0500
TZOFFSETTO:-0600
RDATE:20211107T020000
RDATE:20221106T020000
END:STANDARD
BEGIN:DAYLIGHT
TZNAME:CDT
DTSTART:20210314T020000
TZOFFSETFROM:-0600
TZOFFSETTO:-0500
RDATE:20220313T020000
RDATE:20230312T020000
END:DAYLIGHT
END:VTIMEZONE
BEGIN:VEVENT
UID:301e9a1b-45fb-4eea-92a3-7eaad1ccfca2
DTSTAMP:20260424T080153Z
DESCRIPTION:
DTSTART;TZID=America/Chicago:20210917T110000
DTEND;TZID=America/Chicago:20210917T120000
LOCATION:
SUMMARY:Weekly Exercise: Beginner's Yoga
END:VEVENT
END:VCALENDAR
