BEGIN:VCALENDAR
VERSION:2.0
PRODID:-//empowercdc.org//NONSGML kigkonsult.se iCalcreator 2.30.10//
CALSCALE:GREGORIAN
METHOD:PUBLISH
UID:31c4e0ea-d0a4-4d66-82d2-44499ba7f8e3
X-WR-CALDESC:Bus leaves at 1:30 pm!
X-WR-RELCALID:3fab94bc6e46ace6285bc85cc69f338e
X-WR-TIMEZONE:America/Chicago
BEGIN:VTIMEZONE
TZID:America/Chicago
BEGIN:STANDARD
TZNAME:CST
DTSTART:20201101T020000
TZOFFSETFROM:-0500
TZOFFSETTO:-0600
RDATE:20211107T020000
RDATE:20221106T020000
END:STANDARD
BEGIN:DAYLIGHT
TZNAME:CDT
DTSTART:20210314T020000
TZOFFSETFROM:-0600
TZOFFSETTO:-0500
RDATE:20220313T020000
RDATE:20230312T020000
END:DAYLIGHT
END:VTIMEZONE
BEGIN:VEVENT
UID:aa1b458c-66ba-4a84-85a5-9b16f58b3774
DTSTAMP:20260424T073728Z
DESCRIPTION:Bus leaves at 1:30 pm!
DTSTART;TZID=America/Chicago:20210916T133000
DTEND;TZID=America/Chicago:20210916T153000
LOCATION:
SUMMARY:Transoprtation: Target
END:VEVENT
END:VCALENDAR
