BEGIN:VCALENDAR
VERSION:2.0
PRODID:-//empowercdc.org//NONSGML kigkonsult.se iCalcreator 2.30.10//
CALSCALE:GREGORIAN
METHOD:PUBLISH
UID:9681d396-8c18-4f4a-a481-2097bbc16ea2
X-WR-CALDESC:
X-WR-RELCALID:044926a5d0bc8de4a042f7bc829cc664
X-WR-TIMEZONE:America/Chicago
BEGIN:VTIMEZONE
TZID:America/Chicago
BEGIN:STANDARD
TZNAME:CST
DTSTART:20201101T020000
TZOFFSETFROM:-0500
TZOFFSETTO:-0600
RDATE:20211107T020000
RDATE:20221106T020000
END:STANDARD
BEGIN:DAYLIGHT
TZNAME:CDT
DTSTART:20210314T020000
TZOFFSETFROM:-0600
TZOFFSETTO:-0500
RDATE:20220313T020000
RDATE:20230312T020000
END:DAYLIGHT
END:VTIMEZONE
BEGIN:VEVENT
UID:4c30a40d-89ac-464a-9fa6-1cbd2ffadaea
DTSTAMP:20260424T080501Z
DESCRIPTION:
DTSTART;TZID=America/Chicago:20210916T120000
DTEND;TZID=America/Chicago:20210916T130000
LOCATION:
SUMMARY:Food Pantry: Groceries On Us
END:VEVENT
END:VCALENDAR
