BEGIN:VCALENDAR
VERSION:2.0
PRODID:-//empowercdc.org//NONSGML kigkonsult.se iCalcreator 2.30.10//
CALSCALE:GREGORIAN
METHOD:PUBLISH
UID:9b8fb60a-8b9f-4a9e-9246-ddfacbf6cd3c
X-WR-CALDESC:
X-WR-RELCALID:6cc3dc78faad6a4d7e9be750187b9579
X-WR-TIMEZONE:America/Chicago
BEGIN:VTIMEZONE
TZID:America/Chicago
BEGIN:STANDARD
TZNAME:CST
DTSTART:20201101T020000
TZOFFSETFROM:-0500
TZOFFSETTO:-0600
RDATE:20211107T020000
RDATE:20221106T020000
END:STANDARD
BEGIN:DAYLIGHT
TZNAME:CDT
DTSTART:20210314T020000
TZOFFSETFROM:-0600
TZOFFSETTO:-0500
RDATE:20220313T020000
RDATE:20230312T020000
END:DAYLIGHT
END:VTIMEZONE
BEGIN:VEVENT
UID:0a5ea5a8-400e-4db0-9734-a3f91931bd54
DTSTAMP:20260424T080712Z
DESCRIPTION:
DTSTART;TZID=America/Chicago:20210916T183000
DTEND;TZID=America/Chicago:20210916T193000
LOCATION:Heritage Multi-family
SUMMARY:VIrtual Faith and Finance Course
END:VEVENT
END:VCALENDAR
