BEGIN:VCALENDAR
VERSION:2.0
PRODID:-//empowercdc.org//NONSGML kigkonsult.se iCalcreator 2.30.10//
CALSCALE:GREGORIAN
METHOD:PUBLISH
UID:15c4ee5d-d47c-4262-813e-77f4288569d2
X-WR-CALDESC:
X-WR-RELCALID:c9b2a4399de47a1927d725d4d8797191
X-WR-TIMEZONE:America/Chicago
BEGIN:VTIMEZONE
TZID:America/Chicago
BEGIN:STANDARD
TZNAME:CST
DTSTART:20201101T020000
TZOFFSETFROM:-0500
TZOFFSETTO:-0600
RDATE:20211107T020000
RDATE:20221106T020000
END:STANDARD
BEGIN:DAYLIGHT
TZNAME:CDT
DTSTART:20210314T020000
TZOFFSETFROM:-0600
TZOFFSETTO:-0500
RDATE:20220313T020000
RDATE:20230312T020000
END:DAYLIGHT
END:VTIMEZONE
BEGIN:VEVENT
UID:bca52903-85c4-44db-8fe8-8f0af5b15a65
DTSTAMP:20260424T080117Z
DESCRIPTION:
DTSTART;TZID=America/Chicago:20210915T150000
DTEND;TZID=America/Chicago:20210915T160000
LOCATION:
SUMMARY:Exercise: Virtual Beginner's Yoga
END:VEVENT
END:VCALENDAR
