BEGIN:VCALENDAR
VERSION:2.0
PRODID:-//empowercdc.org//NONSGML kigkonsult.se iCalcreator 2.30.10//
CALSCALE:GREGORIAN
METHOD:PUBLISH
UID:19b82fe4-f6a5-46c1-940f-acead72992bf
X-WR-CALDESC:Revisit with your inner child and create Sand Art Bottles
X-WR-RELCALID:4e5cd939dfc69c107fbedb5e15173f95
X-WR-TIMEZONE:America/Chicago
BEGIN:VTIMEZONE
TZID:America/Chicago
BEGIN:STANDARD
TZNAME:CST
DTSTART:20201101T020000
TZOFFSETFROM:-0500
TZOFFSETTO:-0600
RDATE:20211107T020000
RDATE:20221106T020000
END:STANDARD
BEGIN:DAYLIGHT
TZNAME:CDT
DTSTART:20210314T020000
TZOFFSETFROM:-0600
TZOFFSETTO:-0500
RDATE:20220313T020000
RDATE:20230312T020000
END:DAYLIGHT
END:VTIMEZONE
BEGIN:VEVENT
UID:5c3f0a3a-0ba8-40f8-b002-c85036d4385f
DTSTAMP:20260422T071422Z
DESCRIPTION:Revisit with your inner child and create Sand Art Bottles
DTSTART;TZID=America/Chicago:20210914T150000
DTEND;TZID=America/Chicago:20210914T160000
LOCATION:
SUMMARY:Art and Crafts:  Sand Art Bottles
END:VEVENT
END:VCALENDAR
