BEGIN:VCALENDAR
VERSION:2.0
PRODID:-//empowercdc.org//NONSGML kigkonsult.se iCalcreator 2.30.10//
CALSCALE:GREGORIAN
METHOD:PUBLISH
UID:09ed0bbd-ba3a-4e14-994e-40e1b1dbc5d0
X-WR-CALDESC:
X-WR-RELCALID:5f263c0712460a02bf8979b691b929b2
X-WR-TIMEZONE:America/Chicago
BEGIN:VTIMEZONE
TZID:America/Chicago
BEGIN:STANDARD
TZNAME:CST
DTSTART:20201101T020000
TZOFFSETFROM:-0500
TZOFFSETTO:-0600
RDATE:20211107T020000
RDATE:20221106T020000
END:STANDARD
BEGIN:DAYLIGHT
TZNAME:CDT
DTSTART:20210314T020000
TZOFFSETFROM:-0600
TZOFFSETTO:-0500
RDATE:20220313T020000
RDATE:20230312T020000
END:DAYLIGHT
END:VTIMEZONE
BEGIN:VEVENT
UID:c8afa1bc-c627-4691-b38c-9540820e38e3
DTSTAMP:20260424T073743Z
DESCRIPTION:
DTSTART;TZID=America/Chicago:20210913T093000
DTEND;TZID=America/Chicago:20210913T103000
LOCATION:
SUMMARY:Transportation: Kroger
END:VEVENT
END:VCALENDAR
