BEGIN:VCALENDAR
VERSION:2.0
PRODID:-//empowercdc.org//NONSGML kigkonsult.se iCalcreator 2.30.10//
CALSCALE:GREGORIAN
METHOD:PUBLISH
UID:346d9912-912b-42d5-abfe-0de6fe96cc01
X-WR-CALDESC:Paint by Number!  Let's put your art skills to work!
X-WR-RELCALID:c0cc445b459bf0fa1f2f173706c63304
X-WR-TIMEZONE:America/Chicago
BEGIN:VTIMEZONE
TZID:America/Chicago
BEGIN:STANDARD
TZNAME:CST
DTSTART:20201101T020000
TZOFFSETFROM:-0500
TZOFFSETTO:-0600
RDATE:20211107T020000
RDATE:20221106T020000
END:STANDARD
BEGIN:DAYLIGHT
TZNAME:CDT
DTSTART:20210314T020000
TZOFFSETFROM:-0600
TZOFFSETTO:-0500
RDATE:20220313T020000
RDATE:20230312T020000
END:DAYLIGHT
END:VTIMEZONE
BEGIN:VEVENT
UID:13d70e37-7830-42f2-8093-0892289f162e
DTSTAMP:20260424T080215Z
DESCRIPTION:Paint by Number!  Let's put your art skills to work!
DTSTART;TZID=America/Chicago:20210913T153000
DTEND;TZID=America/Chicago:20210913T170000
LOCATION:
SUMMARY:Arts and Crafts:  Paint with a Twist
END:VEVENT
END:VCALENDAR
