BEGIN:VCALENDAR
VERSION:2.0
PRODID:-//empowercdc.org//NONSGML kigkonsult.se iCalcreator 2.30.10//
CALSCALE:GREGORIAN
METHOD:PUBLISH
UID:679b2231-7be0-460d-8049-425bd69cf1c2
X-WR-CALDESC:
X-WR-RELCALID:937d40beede6b2217da23d018d1a1238
X-WR-TIMEZONE:America/Chicago
BEGIN:VTIMEZONE
TZID:America/Chicago
BEGIN:STANDARD
TZNAME:CST
DTSTART:20201101T020000
TZOFFSETFROM:-0500
TZOFFSETTO:-0600
RDATE:20211107T020000
RDATE:20221106T020000
END:STANDARD
BEGIN:DAYLIGHT
TZNAME:CDT
DTSTART:20210314T020000
TZOFFSETFROM:-0600
TZOFFSETTO:-0500
RDATE:20220313T020000
RDATE:20230312T020000
END:DAYLIGHT
END:VTIMEZONE
BEGIN:VEVENT
UID:091bae10-0000-4da8-9532-c2f180bb41c0
DTSTAMP:20260424T073733Z
DESCRIPTION:
DTSTART;TZID=America/Chicago:20210910T120000
DTEND;TZID=America/Chicago:20210910T130000
LOCATION:
SUMMARY:Smart Lunch
END:VEVENT
END:VCALENDAR
