BEGIN:VCALENDAR
VERSION:2.0
PRODID:-//empowercdc.org//NONSGML kigkonsult.se iCalcreator 2.30.10//
CALSCALE:GREGORIAN
METHOD:PUBLISH
UID:73b5639b-f186-4890-849e-3e711948c198
X-WR-CALDESC:COME OUT AND CELEBRATE THOSE WITH BIRTHDAYS THIS MONTH!
X-WR-RELCALID:0d75448bda1e1e85e50032e34e55e6a6
X-WR-TIMEZONE:America/Chicago
BEGIN:VTIMEZONE
TZID:America/Chicago
BEGIN:STANDARD
TZNAME:CST
DTSTART:20201101T020000
TZOFFSETFROM:-0500
TZOFFSETTO:-0600
RDATE:20211107T020000
RDATE:20221106T020000
END:STANDARD
BEGIN:DAYLIGHT
TZNAME:CDT
DTSTART:20210314T020000
TZOFFSETFROM:-0600
TZOFFSETTO:-0500
RDATE:20220313T020000
RDATE:20230312T020000
END:DAYLIGHT
END:VTIMEZONE
BEGIN:VEVENT
UID:2fd648d6-e83f-4f7f-946d-74db0af2083e
DTSTAMP:20260424T074114Z
DESCRIPTION:COME OUT AND CELEBRATE THOSE WITH BIRTHDAYS THIS MONTH!
DTSTART;TZID=America/Chicago:20210910T150000
DTEND;TZID=America/Chicago:20210910T160000
LOCATION:
SUMMARY:Birthday Social
END:VEVENT
END:VCALENDAR
