BEGIN:VCALENDAR
VERSION:2.0
PRODID:-//empowercdc.org//NONSGML kigkonsult.se iCalcreator 2.30.10//
CALSCALE:GREGORIAN
METHOD:PUBLISH
UID:837230ac-1a60-4334-9671-9844186767ce
X-WR-CALDESC:
X-WR-RELCALID:d26bc914d66eebda9db3ed5d0108d7e7
X-WR-TIMEZONE:America/Chicago
BEGIN:VTIMEZONE
TZID:America/Chicago
BEGIN:STANDARD
TZNAME:CST
DTSTART:20201101T020000
TZOFFSETFROM:-0500
TZOFFSETTO:-0600
RDATE:20211107T020000
RDATE:20221106T020000
END:STANDARD
BEGIN:DAYLIGHT
TZNAME:CDT
DTSTART:20210314T020000
TZOFFSETFROM:-0600
TZOFFSETTO:-0500
RDATE:20220313T020000
RDATE:20230312T020000
END:DAYLIGHT
END:VTIMEZONE
BEGIN:VEVENT
UID:dd785e29-2c5e-48ae-928c-830067715c10
DTSTAMP:20260424T080106Z
DESCRIPTION:
DTSTART;TZID=America/Chicago:20210910T110000
DTEND;TZID=America/Chicago:20210910T120000
LOCATION:
SUMMARY:Weekly Exercise: Beginner's Yoga
END:VEVENT
END:VCALENDAR
