BEGIN:VCALENDAR
VERSION:2.0
PRODID:-//empowercdc.org//NONSGML kigkonsult.se iCalcreator 2.30.10//
CALSCALE:GREGORIAN
METHOD:PUBLISH
UID:2ef530fd-93af-4587-8f3c-0645b5b6fa2a
X-WR-CALDESC:Simply Fit.. Virtual Videos of Beginners Workouts
X-WR-RELCALID:b5c3c3bac5ddabea34ebbed4c611f3f1
X-WR-TIMEZONE:America/Chicago
BEGIN:VTIMEZONE
TZID:America/Chicago
BEGIN:STANDARD
TZNAME:CST
DTSTART:20201101T020000
TZOFFSETFROM:-0500
TZOFFSETTO:-0600
RDATE:20211107T020000
RDATE:20221106T020000
END:STANDARD
BEGIN:DAYLIGHT
TZNAME:CDT
DTSTART:20210314T020000
TZOFFSETFROM:-0600
TZOFFSETTO:-0500
RDATE:20220313T020000
RDATE:20230312T020000
END:DAYLIGHT
END:VTIMEZONE
BEGIN:VEVENT
UID:5334d75a-e6ea-42ce-ab9e-7d4767b47ef3
DTSTAMP:20260424T075953Z
DESCRIPTION:Simply Fit.. Virtual Videos of Beginners Workouts
DTSTART;TZID=America/Chicago:20210910T110000
DTEND;TZID=America/Chicago:20210910T120000
LOCATION:
SUMMARY:Exercise: Virtual Simply Fit
END:VEVENT
END:VCALENDAR
