BEGIN:VCALENDAR
VERSION:2.0
PRODID:-//empowercdc.org//NONSGML kigkonsult.se iCalcreator 2.30.10//
CALSCALE:GREGORIAN
METHOD:PUBLISH
UID:a6eebbc8-cfa6-413c-931b-474c33aaba29
X-WR-CALDESC:
X-WR-RELCALID:a132b60b2a7ceb3bb46667727e4ddd72
X-WR-TIMEZONE:America/Chicago
BEGIN:VTIMEZONE
TZID:America/Chicago
BEGIN:STANDARD
TZNAME:CST
DTSTART:20201101T020000
TZOFFSETFROM:-0500
TZOFFSETTO:-0600
RDATE:20211107T020000
RDATE:20221106T020000
END:STANDARD
BEGIN:DAYLIGHT
TZNAME:CDT
DTSTART:20210314T020000
TZOFFSETFROM:-0600
TZOFFSETTO:-0500
RDATE:20220313T020000
END:DAYLIGHT
END:VTIMEZONE
BEGIN:VEVENT
UID:a2a0b3bf-09bb-4f11-8789-9efa9b678a19
DTSTAMP:20260424T073901Z
DESCRIPTION:
DTSTART;TZID=America/Chicago:20210908T093000
DTEND;TZID=America/Chicago:20210908T103000
LOCATION:
SUMMARY:Transportation: HEB & CVS
END:VEVENT
END:VCALENDAR
