BEGIN:VCALENDAR
VERSION:2.0
PRODID:-//empowercdc.org//NONSGML kigkonsult.se iCalcreator 2.30.10//
CALSCALE:GREGORIAN
METHOD:PUBLISH
UID:ce160b3f-0a1e-4eb1-9416-211cb09b0e8d
X-WR-CALDESC:
X-WR-RELCALID:25181d551800b790e4c854c5f81f0013
X-WR-TIMEZONE:America/Chicago
BEGIN:VTIMEZONE
TZID:America/Chicago
BEGIN:STANDARD
TZNAME:CST
DTSTART:20201101T020000
TZOFFSETFROM:-0500
TZOFFSETTO:-0600
RDATE:20211107T020000
RDATE:20221106T020000
END:STANDARD
BEGIN:DAYLIGHT
TZNAME:CDT
DTSTART:20210314T020000
TZOFFSETFROM:-0600
TZOFFSETTO:-0500
RDATE:20220313T020000
END:DAYLIGHT
END:VTIMEZONE
BEGIN:VEVENT
UID:601bf4d8-f81b-4b99-b61a-93502a7826d1
DTSTAMP:20260424T075948Z
DESCRIPTION:
DTSTART;TZID=America/Chicago:20210908T150000
DTEND;TZID=America/Chicago:20210908T160000
LOCATION:
SUMMARY:Exercise: Virtual Beginner's Yoga
END:VEVENT
END:VCALENDAR
