BEGIN:VCALENDAR
VERSION:2.0
PRODID:-//empowercdc.org//NONSGML kigkonsult.se iCalcreator 2.30.10//
CALSCALE:GREGORIAN
METHOD:PUBLISH
UID:411cbc70-c5a8-4585-80b6-66aa9d3dd298
X-WR-CALDESC:Bus leaves at 9:30am
X-WR-RELCALID:d00a4b84066982755e5aa1d4271a79c7
X-WR-TIMEZONE:America/Chicago
BEGIN:VTIMEZONE
TZID:America/Chicago
BEGIN:STANDARD
TZNAME:CST
DTSTART:20201101T020000
TZOFFSETFROM:-0500
TZOFFSETTO:-0600
RDATE:20211107T020000
RDATE:20221106T020000
END:STANDARD
BEGIN:DAYLIGHT
TZNAME:CDT
DTSTART:20210314T020000
TZOFFSETFROM:-0600
TZOFFSETTO:-0500
RDATE:20220313T020000
END:DAYLIGHT
END:VTIMEZONE
BEGIN:VEVENT
UID:4e5165dc-e6c9-4f5a-a72d-b90ba9686cf9
DTSTAMP:20260424T074005Z
DESCRIPTION:Bus leaves at 9:30am
DTSTART;TZID=America/Chicago:20210907T093000
DTEND;TZID=America/Chicago:20210907T103000
LOCATION:
SUMMARY:Transportation: Walmart
END:VEVENT
END:VCALENDAR
