BEGIN:VCALENDAR
VERSION:2.0
PRODID:-//empowercdc.org//NONSGML kigkonsult.se iCalcreator 2.30.10//
CALSCALE:GREGORIAN
METHOD:PUBLISH
UID:6ba021ae-6292-4374-a1cc-207d2344f02e
X-WR-CALDESC:Exercise:  SIMPLY FIT Chair exercises and chat about the impor
 tance of strength buildling.
X-WR-RELCALID:4e99777abd53c3f36b2175a9be9db0dc
X-WR-TIMEZONE:America/Chicago
BEGIN:VTIMEZONE
TZID:America/Chicago
BEGIN:STANDARD
TZNAME:CST
DTSTART:20201101T020000
TZOFFSETFROM:-0500
TZOFFSETTO:-0600
RDATE:20211107T020000
RDATE:20221106T020000
END:STANDARD
BEGIN:DAYLIGHT
TZNAME:CDT
DTSTART:20210314T020000
TZOFFSETFROM:-0600
TZOFFSETTO:-0500
RDATE:20220313T020000
END:DAYLIGHT
END:VTIMEZONE
BEGIN:VEVENT
UID:134f141f-c376-4b0f-a588-a311aa415537
DTSTAMP:20260424T075948Z
DESCRIPTION:Exercise:  SIMPLY FIT Chair exercises and chat about the import
 ance of strength buildling.
DTSTART;TZID=America/Chicago:20210907T140000
DTEND;TZID=America/Chicago:20210907T170000
LOCATION:
SUMMARY:Exercise:  Simply Fit
END:VEVENT
END:VCALENDAR
